BEGIN:VCALENDAR
VERSION:2.0
PRODID:-//KiTa St. Afra - ECPv6.15.20//NONSGML v1.0//EN
CALSCALE:GREGORIAN
METHOD:PUBLISH
X-WR-CALNAME:KiTa St. Afra
X-ORIGINAL-URL:https://kita-st-afra.de
X-WR-CALDESC:Veranstaltungen für KiTa St. Afra
REFRESH-INTERVAL;VALUE=DURATION:PT1H
X-Robots-Tag:noindex
X-PUBLISHED-TTL:PT1H
BEGIN:VTIMEZONE
TZID:Europe/Berlin
BEGIN:DAYLIGHT
TZOFFSETFROM:+0100
TZOFFSETTO:+0200
TZNAME:CEST
DTSTART:20250330T010000
END:DAYLIGHT
BEGIN:STANDARD
TZOFFSETFROM:+0200
TZOFFSETTO:+0100
TZNAME:CET
DTSTART:20251026T010000
END:STANDARD
BEGIN:DAYLIGHT
TZOFFSETFROM:+0100
TZOFFSETTO:+0200
TZNAME:CEST
DTSTART:20260329T010000
END:DAYLIGHT
BEGIN:STANDARD
TZOFFSETFROM:+0200
TZOFFSETTO:+0100
TZNAME:CET
DTSTART:20261025T010000
END:STANDARD
BEGIN:DAYLIGHT
TZOFFSETFROM:+0100
TZOFFSETTO:+0200
TZNAME:CEST
DTSTART:20270328T010000
END:DAYLIGHT
BEGIN:STANDARD
TZOFFSETFROM:+0200
TZOFFSETTO:+0100
TZNAME:CET
DTSTART:20271031T010000
END:STANDARD
END:VTIMEZONE
BEGIN:VEVENT
DTSTART;TZID=Europe/Berlin:20260115T080000
DTEND;TZID=Europe/Berlin:20260115T120000
DTSTAMP:20260422T160026
CREATED:20251211T095125Z
LAST-MODIFIED:20251211T101325Z
UID:72363-1768464000-1768478400@kita-st-afra.de
SUMMARY:Besuch bei der Berufsfeuerwehr Augsburg
DESCRIPTION:Besuch der Berufsfeuerwehr Augsburg mit den Wackelzahnkindern
URL:https://kita-st-afra.de/event/72363/
LOCATION:Berufsfeuerwehr Augsburg
CATEGORIES:Kindergarten
END:VEVENT
END:VCALENDAR